BEGIN:VCALENDAR
VERSION:2.0
PRODID:-//ChamberMaster//Event Calendar 2.0//EN
METHOD:PUBLISH
X-PUBLISHED-TTL:P3D
REFRESH-INTERVAL:P3D
CALSCALE:GREGORIAN
BEGIN:VEVENT
DTSTART:20180308T163000Z
DTEND:20180308T183000Z
X-MICROSOFT-CDO-ALLDAYEVENT:FALSE
SUMMARY:2nd Annual International Women's Day Luncheon
DESCRIPTION:Join the Zonta Club of Glens Falls\, the Soroptimist of the Adirondacks\, and the Adirondack Branch of the American Association of University Women for our 2nd Annual International Women's Day Luncheon featuring local pediatrician\, Dr. Kathleen Braico. Dr. Braico will present her work experience providing medical care and education to impoverished nations around the world.
X-ALT-DESC;FMTTYPE=text/html:Join the Zonta Club of Glens Falls\, the Soroptimist of the Adirondacks\, and the Adirondack Branch of the American Association of University Women for our 2nd Annual International Women&#39\;s Day Luncheon featuring local pediatrician\, Dr. Kathleen Braico. Dr. Braico will present her work experience providing medical care and education to impoverished nations around the world.
LOCATION:The Queensbury Hotel 88 Ridge Street\, Glens Falls\, NY 12801
UID:e.1842.1138
SEQUENCE:3
DTSTAMP:20260425T124305Z
URL:http://business.adirondackchamber.org/events/details/2nd-annual-international-women-s-day-luncheon-1138
END:VEVENT

END:VCALENDAR
