BEGIN:VCALENDAR
VERSION:2.0
PRODID:-//ChamberMaster//Event Calendar 2.0//EN
METHOD:PUBLISH
X-PUBLISHED-TTL:P3D
REFRESH-INTERVAL:P3D
CALSCALE:GREGORIAN
BEGIN:VEVENT
DTSTART:20220602T140000Z
DTEND:20220602T150000Z
X-MICROSOFT-CDO-ALLDAYEVENT:FALSE
SUMMARY:2022 Speed Networking- June Edition
DESCRIPTION:Join us for a fun\, fast-paced way to accelerate your business networking!\n\n\n\nWe host members from a variety of business sectors (max 2 per Industry**) for a meet and mingle.\n\n\n\nPrepare your best 'elevator pitch' to share knowledge of your brand and business with other professionals in our region and don't forget to bring your business cards to follow-up and stay in touch! \n\n\n\nARCC's Speed Networking is a terrific way to expand your business network through connection and collaboration!\n\n\n\nRachel's delicious beverages and menu items will be available for purchase and we encourage you to stay for lunch after!\n\n\n\nTo ensure the best networking experience for everyone\, please plan to arrive on time!\n\n\n\nSee you there!\n\n\n\nTo register for this event\, please email Carol Ann Conover at caconover@adirondackchamber.org. \n\n\n\nADVANCE REGISTRATION REQUIRED FOR THIS EVENT- NO WALK-INS PLEASE\n\n\n\n\n\n\n\nNot an ARCC Member yet? \n\nYou're welcome to join us\, meet some current members and learn how the ARCC works for businesses in our region!\n\n \n\n\n\n**Speed Networking Events are capped at 16 participants with a max of 2 persons per similar industry\, so don't delay! Reserve your spot today!\n\n\n\n \n\n\n\nRegistration full? Don't worry! Request to REGISTER anyway and you'll be added to our waiting list for upcoming Speed Networking Events!
X-ALT-DESC;FMTTYPE=text/html:<div>Join us for a fun\, fast-paced way to accelerate your business networking!<br />\n<br />\nWe host members from a variety of business sectors (max 2 per Industry**) for a meet and mingle.<br />\n<br />\nPrepare your best &lsquo\;elevator pitch&rsquo\; to share knowledge of your brand and business with other professionals in our region and don&#39\;t forget to bring your business cards to follow-up and stay in touch!&nbsp\;<br />\n<br />\nARCC&rsquo\;s Speed Networking is a terrific way to expand your business network through connection and collaboration!<br />\n<br />\nRachel&#39\;s <strong><a href="https://rachelsspicecafe.com/menu/" target="_blank">delicious beverages and menu items</a></strong> will be available for purchase and we encourage you to stay for lunch after!<br />\n<br />\n<u><span style="font-size:16px\;"><strong><span style="color:#FF0000\;">To ensure the best networking experience for everyone\, please plan to arrive on time!</span></strong></span></u><br />\n<br />\nSee you there!<br />\n<br />\n<strong><span style="color:#FF0000\;">To register for this event</span>\, please email Carol Ann Conover at <a href="mailto:caconover@adirondackchamber.org">caconover@adirondackchamber.org</a>.&nbsp\;<br />\n<br />\n<span style="color:#FF0000\;">ADVANCE REGISTRATION REQUIRED FOR THIS EVENT- NO WALK-INS PLEASE</span></strong><br />\n<br />\n<br />\n<br />\n<span style="color:#008000\;"><strong>Not an ARCC Member yet? </strong></span><br />\n<strong>You&#39\;re welcome to <a href="mailto:caconover@adirondackchamber.org">join us</a>\, meet some current members and learn how the ARCC works for businesses in our region!<br />\n&nbsp\;</strong><br />\n<br />\n<strong>**Speed Networking Events are capped at 16&nbsp\;participants with a max of 2 persons per similar industry\, so don&#39\;t delay! <a href="mailto:caconover@adirondackchamber.org">Reserve your spot today</a>!</strong><br />\n<br />\n&nbsp\;<br />\n<br />\n<strong>Registration full? Don&#39\;t worry! Request to&nbsp\;<a href="mailto:caconover@adirondack.org">REGISTER</a> anyway and you&#39\;ll be added to our waiting list for upcoming Speed Networking Events!&nbsp\;</strong></div>\n
LOCATION:Rachel's Spice Company 240 Warren Street Glens Falls\, NY 12801
UID:e.1842.4242
SEQUENCE:3
DTSTAMP:20260420T010936Z
URL:http://business.adirondackchamber.org/events/details/2022-speed-networking-june-edition-4242
END:VEVENT

END:VCALENDAR
