BEGIN:VCALENDAR
VERSION:2.0
PRODID:-//ChamberMaster//Event Calendar 2.0//EN
METHOD:PUBLISH
X-PUBLISHED-TTL:P3D
REFRESH-INTERVAL:P3D
CALSCALE:GREGORIAN
BEGIN:VEVENT
DTSTART:20211117T210000Z
DTEND:20211118T000000Z
X-MICROSOFT-CDO-ALLDAYEVENT:FALSE
SUMMARY:2021 ARCC Business Expo
DESCRIPTION:The ARCC Business Expo is an excellent opportunity to discover new businesses\, connect with old friends\, and network with regional businesses. It is FREE to attend\, with fees to exhibit. Make sure to bring plenty of business cards!\n\n\n\nWant to know who is exhibiting? Click here.\n\n\n\nWant to donate a Door Prize?\n\nBusinesses may also opt to donate a Door Prize* (minimum $25 value) by selecting the Door Prize Donation option at registration. (*unclaimed door prizes may be used for future ARCC giveaways)\n\n\n\nExhibit Fees: (Make your Exhibit size selection upon registration) \n\n\n\n8ft Long Table Options:\n\n\n\nBusiness Expo 2021- 8ft Table NO ELECTRIC $265\n\nBusiness Expo 2021- 8ft Table W/ELECTRIC $285\n\n\n\n36in Round High-Top Tables Options:\n\n\n\nBusiness Expo 2021- 36in HT Round NO ELECTRIC $265\n\nBusiness Expo 2021- 36in HT Round W/ELECTRIC $285\n\n \n\n8ft (approx) Exhibit Space- No Table Options:\n\n\n\nBusiness Expo 2021- 8 ft (approx) space NO TABLE/NO ELECTRIC $265 \n\nBusiness Expo 2021-8 ft (approx) space NO TABLE W/ELECTRIC $285 \n\n \n\n10ft (approx) Exhibit Space- No Table Options:\n\n\n\nBusiness Expo 2021 -10ft (approx) space- NO TABLE/NO ELECTRIC $285 \n\nBusiness Expo 2021-10ft (approx) space-NO TABLE/w/ ELECTRIC $310 \n\n \n\nFood & Beverage Exhibit:\n\n\n\nBusiness Expo 2021 - F&B 8ft Table w/15 amp outlet $135 \n\n\n\n\n\n                     ***Make your Exhibit size selection upon registration***
X-ALT-DESC;FMTTYPE=text/html:<span style="color:#000000\;"><strong>The ARCC Business Expo is an excellent opportunity to discover new businesses\, connect with old friends\, and network with regional businesses.</strong> It is FREE to attend\, with fees to exhibit. Make sure to bring plenty of business cards!<br />\n<br />\n<strong><em>Want to know who is exhibiting?</em></strong> <a href="https://www.adirondackchamber.org/2021-arcc-business-expo-exhibitors" target="_blank">Click here</a>.<br />\n<br />\n<strong>Want to donate a Door Prize?</strong><br />\nBusinesses may also opt to donate a Door Prize* (minimum $25 value) by selecting the Door Prize Donation option at registration.<em> (*unclaimed door prizes may be used for future ARCC giveaways)</em><br />\n<br />\n<span style="font-size:14px\;"><strong>Exhibit Fees: (Make your Exhibit size selection upon registration)&nbsp\;</strong></span></span><br />\n<br />\n<span style="font-size:16px\;"><strong>8ft Long Table Options:</strong></span><br />\n<br />\n<strong><span style="color:#0000CD\;">Business Expo 2021- 8ft Table NO ELECTRIC $265</span><br />\n<span style="color:#0000CD\;">Business Expo 2021- 8ft Table W/ELECTRIC $285</span></strong><br />\n<br />\n<span style="font-size:16px\;"><strong>36in Round High-Top Tables Options:</strong></span><br />\n<br />\n<strong><span style="color:#008000\;">Business Expo 2021- 36in HT Round NO ELECTRIC $265</span><br />\n<span style="color:#008000\;">Business Expo 2021- 36in HT Round W/ELECTRIC $285</span></strong><br />\n&nbsp\;<br />\n<span style="font-size:16px\;"><strong>8ft (approx) Exhibit Space- No Table Options:</strong></span><br />\n<br />\n<strong><span style="color:#0000CD\;">Business Expo 2021- 8 ft (approx) space NO TABLE/NO ELECTRIC $265&nbsp\;</span><br />\n<span style="color:#0000CD\;">Business Expo 2021-8 ft (approx) space NO TABLE W/ELECTRIC $285&nbsp\;</span></strong><br />\n&nbsp\;<br />\n<span style="font-size:16px\;"><strong>10ft (approx) Exhibit Space- No Table Options:</strong></span><br />\n<br />\n<strong><span style="color:#008000\;">Business Expo 2021 -10ft (approx) space- NO TABLE/NO ELECTRIC $285&nbsp\;</span><br />\n<span style="color:#008000\;">Business Expo 2021-10ft (approx) space-NO TABLE/w/ ELECTRIC $310&nbsp\;</span><br />\n<span style="color:#B22222\;">&nbsp\;</span><br />\n<span style="font-size:16px\;">Food &amp\; Beverage Exhibit:</span></strong><br />\n<br />\n<strong><span style="color:#0000CD\;">Business Expo 2021 - F&amp\;B 8ft Table w/15 amp outlet $135&nbsp\;</span></strong><br />\n<br />\n<br />\n<span style="font-size:18px\;"><strong background-color:="" font-size:="" style="font-family: sans-serif\, Arial\, Verdana\, " trebuchet="">&nbsp\; &nbsp\; &nbsp\; &nbsp\; &nbsp\; &nbsp\; &nbsp\; &nbsp\; &nbsp\; &nbsp\; &nbsp\;***Make your Exhibit size selection upon registration***</strong></span>\n<h1>&nbsp\;</h1>\n
LOCATION:The Queensbury Hotel 88 Ridge Street Glens Falls\, NY 12801 https://thequeensburyhotel.com/
UID:e.1842.4099
SEQUENCE:3
DTSTAMP:20260420T132938Z
URL:http://business.adirondackchamber.org/events/details/2021-arcc-business-expo-4099
END:VEVENT

END:VCALENDAR
