BEGIN:VCALENDAR
VERSION:2.0
PRODID:-//ChamberMaster//Event Calendar 2.0//EN
METHOD:PUBLISH
X-PUBLISHED-TTL:P3D
REFRESH-INTERVAL:P3D
CALSCALE:GREGORIAN
BEGIN:VEVENT
DTSTART:20191016T200000Z
DTEND:20191016T230000Z
X-MICROSOFT-CDO-ALLDAYEVENT:FALSE
SUMMARY:2019 ARCC Business Expo
DESCRIPTION:Join us at 2019 ARCC Business Expo\n\n\n\nMark your calendars for this much anticipated showcase event at the Queensbury Hotel in downtown Glens Falls. ARCC Members will have the opportunity to sign up to exhibit their business.\n\n\n\nEXHIBIT SPACE IS SOLD OUT FOR THIS EVENT but we encourage you to still attend. Bring plenty of business cards!
X-ALT-DESC;FMTTYPE=text/html:<span style="color:#000000\;"><u><strong>Join us at 2019 ARCC Business Expo</strong></u><br />\n<br />\nMark your calendars for this much anticipated showcase event at the Queensbury Hotel in downtown Glens Falls. ARCC Members will have the opportunity to sign up to exhibit their business.</span><br />\n<br />\n<span style="color:#FF0000\;"><u><strong>EXHIBIT SPACE IS SOLD OUT FOR THIS EVENT</strong></u></span><span style="color:#000000\;"> <strong>but we encourage you to still attend. Bring plenty of business cards!</strong></span><br />\n&nbsp\;\n<h1>&nbsp\;</h1>\n
LOCATION:The Queensbury Hotel 88 Ridge Street Glens Falls\, NY 12801
UID:e.1842.3834
SEQUENCE:3
DTSTAMP:20260422T054520Z
URL:http://business.adirondackchamber.org/events/details/2019-arcc-business-expo-3834
END:VEVENT

END:VCALENDAR
