BEGIN:VCALENDAR
VERSION:2.0
PRODID:-//ChamberMaster//Event Calendar 2.0//EN
METHOD:PUBLISH
X-PUBLISHED-TTL:P3D
REFRESH-INTERVAL:P3D
CALSCALE:GREGORIAN
BEGIN:VEVENT
DTSTART:20170921T200000Z
DTEND:20170921T230000Z
X-MICROSOFT-CDO-ALLDAYEVENT:FALSE
SUMMARY:2017 ARCC Business Expo
DESCRIPTION:EXHIBIT SPACE IS SOLD OUT FOR THIS EVENT\n\nThis is the premier\, interactive Adirondack event that you won't want to miss. Three hours include countless opportunities for:\n\n	Dynamic networking\n	Information sharing\n	Making connections with exhibitors and many of your fellow ARCC CommUnity supporters\n\n\n\nEnjoy complimentary food samples as you network and socialize with your peers. Door prizes and drink specials will round out your ARCC EXPOnential experience. Your business card is your ticket in.\n\n\n\nMike Dubray\, with Regional Radio Group\, will be broadcasting live on 98.5 WCKM from the event.
X-ALT-DESC;FMTTYPE=text/html:<span style="font-size:14px\;"><span style="font-family: tahoma\;"><strong>EXHIBIT SPACE IS SOLD OUT FOR THIS EVENT</strong><br />\nThis is the premier\, interactive Adirondack event that you won&#39\;t want to miss.&nbsp\;<span _mce_style="font-size: 14.6667px\;">Three hours include countless opportunities for:</span></span></span>\n<ul>\n	<li _mce_style="text-align: left\;" align="left" style="color: rgb(0\, 0\, 0)\; font-family: Tahoma\,Arial\,sans-serif\; font-size: 14.6667px\; font-style: normal\; font-variant-ligatures: normal\; font-variant-caps: normal\; font-weight: normal\; letter-spacing: normal\; text-indent: 0px\; text-transform: none\; white-space: normal\; word-spacing: 0px\; -webkit-text-stroke-width: 0px\; background-color: rgb(255\, 255\, 255)\; text-decoration-style: initial\; text-decoration-color: initial\; text-align: left\;"><span style="font-size:12px\;"><span style="font-family: tahoma\;">Dynamic networking</span></span></li>\n	<li _mce_style="text-align: left\;" align="left" style="color: rgb(0\, 0\, 0)\; font-family: Tahoma\,Arial\,sans-serif\; font-size: 14.6667px\; font-style: normal\; font-variant-ligatures: normal\; font-variant-caps: normal\; font-weight: normal\; letter-spacing: normal\; text-indent: 0px\; text-transform: none\; white-space: normal\; word-spacing: 0px\; -webkit-text-stroke-width: 0px\; background-color: rgb(255\, 255\, 255)\; text-decoration-style: initial\; text-decoration-color: initial\; text-align: left\;"><span style="font-size:12px\;"><span style="font-family: tahoma\;">Information sharing</span></span></li>\n	<li _mce_style="text-align: left\;" align="left" style="color: rgb(0\, 0\, 0)\; font-family: Tahoma\,Arial\,sans-serif\; font-size: 14.6667px\; font-style: normal\; font-variant-ligatures: normal\; font-variant-caps: normal\; font-weight: normal\; letter-spacing: normal\; text-indent: 0px\; text-transform: none\; white-space: normal\; word-spacing: 0px\; -webkit-text-stroke-width: 0px\; background-color: rgb(255\, 255\, 255)\; text-decoration-style: initial\; text-decoration-color: initial\; text-align: left\;"><span style="font-size:12px\;"><span style="font-family: tahoma\;">Making connections with exhibitors and many of your fellow ARCC Comm<em>Unity</em> supporters</span></span></li>\n</ul>\n\n<div style="color: rgb(0\, 0\, 0)\; font-family: Tahoma\,Arial\,sans-serif\; font-size: 14.6667px\; font-style: normal\; font-variant-ligatures: normal\; font-variant-caps: normal\; font-weight: normal\; letter-spacing: normal\; text-indent: 0px\; text-transform: none\; white-space: normal\; word-spacing: 0px\; -webkit-text-stroke-width: 0px\; background-color: rgb(255\, 255\, 255)\; text-decoration-style: initial\; text-decoration-color: initial\; text-align: left\;">\n<div _mce_style="text-align: left\;" align="left" style="color: rgb(0\, 0\, 0)\; font-family: Tahoma\, Arial\, sans-serif\; font-size: 14.6667px\; font-style: normal\; font-variant-ligatures: normal\; font-variant-caps: normal\; font-weight: normal\; letter-spacing: normal\; orphans: 2\; text-indent: 0px\; text-transform: none\; white-space: normal\; widows: 2\; word-spacing: 0px\; -webkit-text-stroke-width: 0px\; background-color: rgb(255\, 255\, 255)\; text-decoration-style: initial\; text-decoration-color: initial\; text-align: left\;"><span style="font-size:14px\;"><span style="font-family: tahoma\;">Enjoy complimentary food samples as you network and socialize with your peers. Door prizes and drink specials will round out your ARCC EXPOnential experience. <strong>Your business card is your ticket in.</strong></span></span><br />\n<br />\n<span style="color: rgb(0\, 0\, 0)\; font-family: Tahoma\, Arial\, sans-serif\; font-size: 14.6667px\; font-style: normal\; font-variant-ligatures: normal\; font-variant-caps: normal\; font-weight: normal\; letter-spacing: normal\; orphans: 2\; text-align: left\; text-indent: 0px\; text-transform: none\; white-space: normal\; widows: 2\; word-spacing: 0px\; -webkit-text-stroke-width: 0px\; background-color: rgb(255\, 255\, 255)\; text-decoration-style: initial\; text-decoration-color: initial\; display: inline !important\; float: none\;">Mike Dubray\, with<span>&nbsp\;</span></span><a _mce_href="http://regionalradiogroup.com/" _mce_style="color: blue !important\; text-decoration: underline !important\;" href="http://regionalradiogroup.com/" style="font-family: Tahoma\, Arial\, sans-serif\; font-size: 14.6667px\; font-style: normal\; font-variant-ligatures: normal\; font-variant-caps: normal\; font-weight: normal\; letter-spacing: normal\; orphans: 2\; text-align: left\; text-indent: 0px\; text-transform: none\; white-space: normal\; widows: 2\; word-spacing: 0px\; -webkit-text-stroke-width: 0px\; background-color: rgb(255\, 255\, 255)\; color: blue !important\; text-decoration: underline !important\;" target="_blank">Regional Radio&nbsp\;Group</a><span style="color: rgb(0\, 0\, 0)\; font-family: Tahoma\, Arial\, sans-serif\; font-size: 14.6667px\; font-style: normal\; font-variant-ligatures: normal\; font-variant-caps: normal\; font-weight: normal\; letter-spacing: normal\; orphans: 2\; text-align: left\; text-indent: 0px\; text-transform: none\; white-space: normal\; widows: 2\; word-spacing: 0px\; -webkit-text-stroke-width: 0px\; background-color: rgb(255\, 255\, 255)\; text-decoration-style: initial\; text-decoration-color: initial\; display: inline !important\; float: none\;">\, will be<span>&nbsp\;</span></span><strong style="color: rgb(0\, 0\, 0)\; font-family: Tahoma\, Arial\, sans-serif\; font-size: 14.6667px\; font-style: normal\; font-variant-ligatures: normal\; font-variant-caps: normal\; letter-spacing: normal\; orphans: 2\; text-align: left\; text-indent: 0px\; text-transform: none\; white-space: normal\; widows: 2\; word-spacing: 0px\; -webkit-text-stroke-width: 0px\; background-color: rgb(255\, 255\, 255)\; text-decoration-style: initial\; text-decoration-color: initial\;">broadcasting live on 98.5 </strong><strong style="color: rgb(0\, 0\, 0)\; font-family: Tahoma\, Arial\, sans-serif\; font-size: 14.6667px\; font-style: normal\; font-variant-ligatures: normal\; font-variant-caps: normal\; letter-spacing: normal\; orphans: 2\; text-align: left\; text-indent: 0px\; text-transform: none\; white-space: normal\; widows: 2\; word-spacing: 0px\; -webkit-text-stroke-width: 0px\; background-color: rgb(255\, 255\, 255)\; text-decoration-style: initial\; text-decoration-color: initial\;">WCKM</strong><span style="color: rgb(0\, 0\, 0)\; font-family: Tahoma\, Arial\, sans-serif\; font-size: 14.6667px\; font-style: normal\; font-variant-ligatures: normal\; font-variant-caps: normal\; font-weight: normal\; letter-spacing: normal\; orphans: 2\; text-align: left\; text-indent: 0px\; text-transform: none\; white-space: normal\; widows: 2\; word-spacing: 0px\; -webkit-text-stroke-width: 0px\; background-color: rgb(255\, 255\, 255)\; text-decoration-style: initial\; text-decoration-color: initial\; display: inline !important\; float: none\;"> from</span><span style="color: rgb(0\, 0\, 0)\; font-family: Tahoma\, Arial\, sans-serif\; font-size: 14.6667px\; font-style: normal\; font-variant-ligatures: normal\; font-variant-caps: normal\; font-weight: normal\; letter-spacing: normal\; orphans: 2\; text-align: left\; text-indent: 0px\; text-transform: none\; white-space: normal\; widows: 2\; word-spacing: 0px\; -webkit-text-stroke-width: 0px\; background-color: rgb(255\, 255\, 255)\; text-decoration-style: initial\; text-decoration-color: initial\; display: inline !important\; float: none\;"> the event. </span></div>\n</div>\n
LOCATION:The Queensbury Hotel 88 Ridge Street\, Glens Falls\, NY 12801
UID:e.1842.1088
SEQUENCE:3
DTSTAMP:20260425T232148Z
URL:http://business.adirondackchamber.org/events/details/2017-arcc-business-expo-1088
END:VEVENT

END:VCALENDAR
