BEGIN:VCALENDAR
VERSION:2.0
PRODID:-//ChamberMaster//Event Calendar 2.0//EN
METHOD:PUBLISH
X-PUBLISHED-TTL:P3D
REFRESH-INTERVAL:P3D
CALSCALE:GREGORIAN
BEGIN:VEVENT
DTSTART:20180221T220000Z
DTEND:20180221T233000Z
X-MICROSOFT-CDO-ALLDAYEVENT:FALSE
SUMMARY:2.2018 Adirondack Thunder Hockey Mixer
DESCRIPTION:Come out and support the Adirondack Thunder! Join us for an ARCC Mixer followed by an exciting Adirondack Thunder game VS the Worcester Railers. Enjoy drink specials as you network with your colleagues\, then stick around for the game. GO THUNDER!\n\n\n\n*ARCC's Cancelation Policy: A registration is a reservation and we look forward to you joining us.  To best support our venue partners and event attendees\, a refund for any reservation will require 72 hours notice for cancellation. Reserved no shows will be charged the full price. We encourage you to send a co-worker\, peer\, vendor or customer if you're not able to make it and giving notice wasn't optional.
X-ALT-DESC;FMTTYPE=text/html:<span style="color:#000000\;"><span style="font-size: 14px\;"><span style="font-family: tahoma\;"><span style="margin: 0px\; padding: 0px\; border: medium none\; outline: 0px none currentcolor\; bottom: auto\; box-sizing: content-box\; clear: none\; content: normal\; direction: inherit\; display: inline\; empty-cells: show\; font-style: inherit\; font-variant: inherit\; font-weight: inherit\; font-stretch: inherit\; left: auto\; letter-spacing: inherit\; line-height: inherit\; max-height: none\; max-width: none\; min-height: initial\; min-width: initial\; opacity: 1\; outline-offset: 0px\; overflow: visible\; position: static\; resize: none\; right: auto\; table-layout: auto\; text-align: inherit\; text-decoration: none\; text-indent: inherit\; text-overflow: clip\; text-transform: inherit\; top: auto\; vertical-align: baseline\; visibility: inherit\; white-space: inherit\; word-break: inherit\; word-spacing: inherit\; overflow-wrap: inherit\; z-index: auto\; background: rgba(0\, 0\, 0\, 0) none repeat scroll 0% 0%\; border-collapse: separate\; border-radius: 0px\; height: auto\; width: auto\; box-shadow: none\;"><span style="margin: 0px\; padding: 0px\; border: medium none\; outline: 0px none currentcolor\; bottom: auto\; box-sizing: content-box\; clear: none\; content: normal\; direction: inherit\; display: inline\; empty-cells: show\; float: none\; font-style: inherit\; font-variant: inherit\; font-weight: inherit\; font-stretch: inherit\; left: auto\; letter-spacing: inherit\; line-height: 15.36px\; max-height: none\; max-width: none\; min-height: initial\; min-width: initial\; opacity: 1\; outline-offset: 0px\; overflow: visible\; position: static\; resize: none\; right: auto\; table-layout: auto\; text-align: inherit\; text-decoration: none\; text-indent: inherit\; text-overflow: clip\; text-transform: inherit\; top: auto\; vertical-align: baseline\; visibility: inherit\; white-space: inherit\; word-break: inherit\; word-spacing: inherit\; overflow-wrap: inherit\; z-index: auto\; background: rgba(0\, 0\, 0\, 0) none repeat scroll 0% 0%\; border-collapse: separate\; border-radius: 0px\; height: auto\; width: auto\; box-shadow: none\;">Come<em> </em>out a</span></span>nd support the Adirondack Thunder! Join us for an ARCC Mixer followed by an exciting Adirondack Thunder game VS the Worcester Railers. Enjoy drink specials as you network with your colleagues\, then stick around for the game. GO THUNDER!</span></span></span><br />\n<br />\n<em style="margin: 0px\; padding: 0px\; border: currentcolor\; outline: 0px\; font-size: 14px\; bottom: auto\; box-sizing: content-box\; clear: none\; color: rgb(0\, 0\, 0)\; content: normal\; direction: inherit\; display: inline\; empty-cells: show\; font-style: italic\; font-variant-ligatures: normal\; font-variant-caps: normal\; font-variant-numeric: inherit\; font-variant-east-asian: inherit\; font-weight: 400\; font-stretch: inherit\; font-family: tahoma\; left: auto\; letter-spacing: normal\; line-height: inherit\; max-height: none\; max-width: none\; min-height: initial\; min-width: initial\; opacity: 1\; outline-offset: 0px\; overflow: visible\; position: static\; resize: none\; right: auto\; table-layout: auto\; text-align: left\; text-decoration: none\; text-indent: 0px\; text-overflow: clip\; text-transform: none\; top: auto\; vertical-align: baseline\; visibility: inherit\; white-space: normal\; word-break: inherit\; word-spacing: 0px\; word-wrap: inherit\; z-index: auto\; background: none rgb(255\, 255\, 255)\; border-collapse: separate\; border-radius: 0px\; height: auto\; width: auto\; box-shadow: none\; orphans: 2\; widows: 2\; -webkit-text-stroke-width: 0px\;"><span style="margin: 0px\; padding: 0px\; border: medium none\; outline: currentcolor none 0px\; font-size: 11px\; bottom: auto\; box-sizing: content-box\; clear: none\; color: inherit\; content: normal\; direction: inherit\; display: inline\; empty-cells: show\; font-style: inherit\; font-variant: inherit\; font-weight: inherit\; font-stretch: inherit\; font-family: inherit\; left: auto\; letter-spacing: inherit\; line-height: inherit\; max-height: none\; max-width: none\; min-height: initial\; min-width: initial\; opacity: 1\; outline-offset: 0px\; overflow: visible\; position: static\; resize: none\; right: auto\; table-layout: auto\; text-align: inherit\; text-decoration: none\; text-indent: inherit\; text-overflow: clip\; text-transform: inherit\; top: auto\; vertical-align: baseline\; visibility: inherit\; white-space: inherit\; word-break: inherit\; word-spacing: inherit\; word-wrap: inherit\; z-index: auto\; background: none 0% 0% repeat scroll rgba(0\, 0\, 0\, 0)\; border-collapse: separate\; border-radius: 0px\; height: auto\; width: auto\; box-shadow: none\;"><span style="margin: 0px\; padding: 0px\; border: medium none\; outline: currentcolor none 0px\; font-size: inherit\; bottom: auto\; box-sizing: content-box\; clear: none\; color: inherit\; content: normal\; direction: inherit\; display: inline\; empty-cells: show\; float: none\; font-style: inherit\; font-variant: inherit\; font-weight: inherit\; font-stretch: inherit\; font-family: inherit\; left: auto\; letter-spacing: inherit\; line-height: 18.9px\; max-height: none\; max-width: none\; min-height: initial\; min-width: initial\; opacity: 1\; outline-offset: 0px\; overflow: visible\; position: static\; resize: none\; right: auto\; table-layout: auto\; text-align: inherit\; text-decoration: none\; text-indent: inherit\; text-overflow: clip\; text-transform: inherit\; top: auto\; vertical-align: baseline\; visibility: inherit\; white-space: inherit\; word-break: inherit\; word-spacing: inherit\; word-wrap: inherit\; z-index: auto\; background: none 0% 0% repeat scroll rgba(0\, 0\, 0\, 0)\; border-collapse: separate\; border-radius: 0px\; height: auto\; width: auto\; box-shadow: none\;">*</span><span style="margin: 0px\; padding: 0px\; border: medium none\; outline: currentcolor none 0px\; font-size: inherit\; bottom: auto\; box-sizing: content-box\; clear: none\; color: inherit\; content: normal\; direction: inherit\; display: inline\; empty-cells: show\; float: none\; font-style: inherit\; font-variant: inherit\; font-weight: inherit\; font-stretch: inherit\; font-family: inherit\; left: auto\; letter-spacing: inherit\; line-height: 15.36px\; max-height: none\; max-width: none\; min-height: initial\; min-width: initial\; opacity: 1\; outline-offset: 0px\; overflow: visible\; position: static\; resize: none\; right: auto\; table-layout: auto\; text-align: inherit\; text-decoration: none\; text-indent: inherit\; text-overflow: clip\; text-transform: inherit\; top: auto\; vertical-align: baseline\; visibility: inherit\; white-space: inherit\; word-break: inherit\; word-spacing: inherit\; word-wrap: inherit\; z-index: auto\; background: none 0% 0% repeat scroll rgba(0\, 0\, 0\, 0)\; border-collapse: separate\; border-radius: 0px\; height: auto\; width: auto\; box-shadow: none\;">ARCC&#39\;s&nbsp\;Cancelation Policy: A registration is a reservation and we look forward to you joining us. &nbsp\;To best support our venue partners and event attendees\, a refund for any reservation will require 72 hours notice for&nbsp\;cancellation. Reserved no shows will be charged the full price. We encourage you to send a co-worker\, peer\, vendor or customer if you&#39\;re not able to make it and giving notice wasn&#39\;t optional.</span></span></em><br />\n&nbsp\;
LOCATION:Cool Insuring Arena 1 Civic Center Plaza Glens Falls\, NY 12801
UID:e.1842.1131
SEQUENCE:3
DTSTAMP:20260425T135854Z
URL:http://business.adirondackchamber.org/events/details/2-2018-adirondack-thunder-hockey-mixer-1131
END:VEVENT

END:VCALENDAR
