BEGIN:VCALENDAR
VERSION:2.0
PRODID:-//ChamberMaster//Event Calendar 2.0//EN
METHOD:PUBLISH
X-PUBLISHED-TTL:P3D
REFRESH-INTERVAL:P3D
CALSCALE:GREGORIAN
BEGIN:VEVENT
DTSTART:20171207T220000Z
DTEND:20171208T000000Z
X-MICROSOFT-CDO-ALLDAYEVENT:FALSE
SUMMARY:12.2017 ARCC Annual Holiday Mixer 2017
DESCRIPTION:Join us for our 'Mix and Mingle' Holiday Celebration! This after-hours networking event has become a member favorite\, at the Inn at Erlowest\, located on the shores of Lake George.The venue will feature savory food stations\, filling hors d'oeuvres\, delicious desserts and drink specials to toast to the beauty of the season! There will also be a photo booth and raffle prizes.\n \n\nThis event is an annual sellout\, so make your reservations today to make sure you have a spot.\n\n \n\n*Reservations and pre-payment for this Holiday Celebration are required. No walk-ins please.\n\n\n\n*ARCC's Cancelation Policy: A registration is a reservation and we look forward to you joining us.  To best support our venue partners and event attendees\, a refund for any reservation will require 72 hours notice for cancellation. Reserved no shows will be charged the full price. We encourage you to send a co-worker\, peer\, vendor or customer if you're not able to make it and giving notice wasn't optional.\n\n\n\nARCC Not Yet Member Attendance Policy\n\nThe Adirondack Regional Chamber of Commerce schedules and hosts some of the MUST ATTEND events in the tri-county region and are Member Only benefits to maximize networking with like-minded\, civic and community leaders that commit to best business practices. To find out why our members grow\, succeed and thrive\, we invite NOT YET Members to attend 1 (one) regularly scheduled event per calendar year at a Not Yet Member admission fee (if applicable). A non-qualifying member is defined as any business and the employees or representatives with unpaid dues for membership of the ARCC.
X-ALT-DESC;FMTTYPE=text/html:<p style="margin: 0in 0in 0pt\;"><span style="color: black\;">Join us for our &#39\;Mix and Mingle&#39\; Holiday Celebration!&nbsp\;This after-hours networking event has become a member favorite\,&nbsp\;at the Inn at&nbsp\;Erlowest\,&nbsp\;located&nbsp\;on the shores of Lake George.The venue will feature savory&nbsp\;food stations\, filling hors d&#39\;oeuvres\, delicious desserts and drink specials to toast to the&nbsp\;beauty of the season! There will also be a photo booth and raffle prizes.</span></p>\n<span style="color: black\;">&nbsp\;</span>\n\n<p style="margin: 0in 0in 0pt\;"><span style="color: black\;">This event is an annual sellout\, so make your reservations today to make sure you have a spot.</span></p>\n\n<div style="line-height: 18.9px\; font-size: 12.72px\;">&nbsp\;</div>\n\n<div style="line-height: 18.9px\; font-size: 12.72px\;"><span style="color:#FF0000\;"><strong><span style="font-family: arial\;"><span style="background-color: rgb(247\, 247\, 247)\;">*Reservations and pre-payment for this Holiday&nbsp\;Celebration are required. No walk-ins please.</span></span></strong></span><br />\n<br />\n<span style="font-size: 11px\; font-family: arial\, sans-serif\;">*</span><span style="font-size: 11px\; font-family: arial\, sans-serif\;">ARCC&#39\;s</span><span style="font-size: 11px\; font-family: arial\, sans-serif\;">&nbsp\;Cancelation Policy: A registration is a reservation and we look forward to you joining us. &nbsp\;To best support our venue partners and event attendees\, a refund for any reservation will require 72 hours notice for&nbsp\;cancellation. Reserved no shows will be charged the full price. We encourage you to send a co-worker\, peer\, vendor or customer if you&#39\;re not able to make it and giving notice wasn&#39\;t optional.</span><br style="font-size: 11px\;" />\n<br style="font-size: 11px\;" />\n<span style="font-size: 11px\; font-family: arial\, sans-serif\;">ARCC</span><span style="font-size: 11px\; font-family: arial\, sans-serif\;">&nbsp\;Not Yet Member Attendance Policy<br />\nThe Adirondack Regional Chamber of Commerce schedules and hosts some of the MUST ATTEND events in the tri-county region and are Member Only benefits to maximize networking with like-minded\, civic and community leaders that commit to best business practices. To find out why our members grow\, succeed and thrive\, we invite NOT YET Members to attend 1 (one) regularly scheduled event per calendar year at a Not Yet Member admission fee (if applicable). A non-qualifying member is defined as any business and the employees or representatives with unpaid dues for membership of the&nbsp\;ARCC.</span></div>\n
LOCATION:The Inn at Erlowest 3178 Lake Shore Drive Lake George\, NY 12845
UID:e.1842.1102
SEQUENCE:3
DTSTAMP:20260425T181340Z
URL:http://business.adirondackchamber.org/events/details/12-2017-arcc-annual-holiday-mixer-2017-1102
END:VEVENT

END:VCALENDAR
