BEGIN:VCALENDAR
VERSION:2.0
PRODID:-//ChamberMaster//Event Calendar 2.0//EN
METHOD:PUBLISH
X-PUBLISHED-TTL:P3D
REFRESH-INTERVAL:P3D
CALSCALE:GREGORIAN
BEGIN:VEVENT
DTSTART:20171116T220000Z
DTEND:20171117T000000Z
X-MICROSOFT-CDO-ALLDAYEVENT:FALSE
SUMMARY:11.2017 ARCC CommUnity Mixer at Lake George Brew House Nov 2017
DESCRIPTION:Come check out the Lake George Brew House and sample craft beverages\, sodas and more. Go on a self-guided tour and check out the brewery.
X-ALT-DESC;FMTTYPE=text/html:<span style="font-family:tahoma\;"><span style="font-size: 14px\;">Come check out the Lake George Brew House and sample craft beverages\, sodas and more. Go on a self-guided tour and check out the brewery.</span></span>
LOCATION:Lake George Brew House 1043 US Route 9 Queensbury\, NY 12804
UID:e.1842.1094
SEQUENCE:3
DTSTAMP:20260425T194017Z
URL:http://business.adirondackchamber.org/events/details/11-2017-arcc-community-mixer-at-lake-george-brew-house-nov-2017-1094
END:VEVENT

END:VCALENDAR
