BEGIN:VCALENDAR
VERSION:2.0
PRODID:-//ChamberMaster//Event Calendar 2.0//EN
METHOD:PUBLISH
X-PUBLISHED-TTL:P3D
REFRESH-INTERVAL:P3D
CALSCALE:GREGORIAN
BEGIN:VEVENT
DTSTART:20200116T213000Z
DTEND:20200116T230000Z
X-MICROSOFT-CDO-ALLDAYEVENT:FALSE
SUMMARY:1.2020 ARCC Mixer & Barkeater New Product Unveiling
DESCRIPTION:Barkeater Chocolates\, longtime sponsor of ARCC's Thank You Thursday\, is teaming up with us yet again to unveil a few brand new FlavorWow chocolates at our January mixer on Thursday 1/16 at Downtown Social from 4:30 - 6:00 pm.\n\n\n\nNot only will our Chamber Members\, and guests\, get a sneak peek at the new products being released\, but attendees will get to take some of the sweet treats home to enjoy...so long as you can resist the urge to eat them on the spot!
X-ALT-DESC;FMTTYPE=text/html:Barkeater Chocolates\, longtime sponsor of ARCC&#39\;s&nbsp\;Thank You Thursday\, is teaming up with us yet again to unveil a few brand new FlavorWow chocolates at our January mixer on Thursday 1/16 at Downtown Social from 4:30 - 6:00 pm.<br />\n<br />\nNot only will our Chamber Members\, and guests\, get a sneak peek at the new products being released\, but attendees will get to take some of the sweet treats home to enjoy...so long as you can resist the urge to eat them on the spot!<br />\n&nbsp\;
LOCATION:Downtown Social 190 Glen Street Glens Falls\, NY 12801
UID:e.1842.3902
SEQUENCE:3
DTSTAMP:20260422T021426Z
URL:http://business.adirondackchamber.org/events/details/1-2020-arcc-mixer-barkeater-new-product-unveiling-3902
END:VEVENT

END:VCALENDAR
