BEGIN:VCALENDAR
VERSION:2.0
PRODID:-//ChamberMaster//Event Calendar 2.0//EN
METHOD:PUBLISH
X-PUBLISHED-TTL:P3D
REFRESH-INTERVAL:P3D
CALSCALE:GREGORIAN
BEGIN:VEVENT
DTSTART:20190129T223000Z
DTEND:20190130T003000Z
X-MICROSOFT-CDO-ALLDAYEVENT:FALSE
SUMMARY:1.2019 Trivia Night - Presented by the ARCC NextGens
DESCRIPTION:**POSTPONED**\n\nDue to predicted inclement weather\, we have decided to postpone our Trivia Night. Stay tuned for future announcements.\n\n\n\n\n\nThe ARCC NextGens are hosting a trivia night! \n\n\n\nJoin us for this unique networking opportunity as we mix it up with a Trivia Night. Assemble your team of 4 people or we will place you on one. Enjoy food & drink specials and prizes. Friendly competition is encouraged!
X-ALT-DESC;FMTTYPE=text/html:<span style="color:#000000\;"><strong>**POSTPONED**<br />\nDue to predicted inclement weather\, we have decided to postpone our Trivia Night. Stay tuned for future announcements.<br />\n<br />\n<br />\nThe ARCC NextGens are hosting a trivia night! </strong></span><br />\n<br />\nJoin us for this unique networking opportunity as we mix it up with a Trivia Night. Assemble your team of 4 people or we will place you on one. Enjoy food &amp\; drink specials and prizes. <em>Friendly competition is encouraged!</em><br />\n&nbsp\;
LOCATION:The Grateful Den 56 Hudson Avenue Glens Falls\, NY 12801
UID:e.1842.3563
SEQUENCE:3
DTSTAMP:20260424T203601Z
URL:http://business.adirondackchamber.org/events/details/1-2019-trivia-night-presented-by-the-arcc-nextgens-3563
END:VEVENT

END:VCALENDAR
