BEGIN:VCALENDAR
VERSION:2.0
PRODID:-//ChamberMaster//Event Calendar 2.0//EN
METHOD:PUBLISH
X-PUBLISHED-TTL:P3D
REFRESH-INTERVAL:P3D
CALSCALE:GREGORIAN
BEGIN:VEVENT
DTSTART:20180130T213000Z
DTEND:20180131T000000Z
X-MICROSOFT-CDO-ALLDAYEVENT:FALSE
SUMMARY:1.2018 Trivia Night Mixer
DESCRIPTION:Join us for this unique networking opportunity as we mix it up with a Trivia Night. We will place you on a team of 4 to encourage networking. Enjoy food & drink specials. Friendly competition is encouraged!\n\n\n\n*ARCC's Cancelation Policy: A registration is a reservation and we look forward to you joining us.  To best support our venue partners and event attendees\, a refund for any reservation will require 72 hours notice for cancellation. Reserved no shows will be charged the full price. We encourage you to send a co-worker\, peer\, vendor or customer if you're not able to make it and giving notice wasn't optional.
X-ALT-DESC;FMTTYPE=text/html:<span style="font-size:14px\;"><span style="font-family: tahoma\;">Join us for this unique networking opportunity as we mix it up with a Trivia Night.&nbsp\;<strong>We will place you on a team of 4 to encourage networking.</strong>&nbsp\;Enjoy food &amp\; drink specials.&nbsp\;Friendly competition is encouraged!</span></span><br />\n<br />\n<span style="color:#000000\;"><span style="font-family: tahoma\;"><em style="margin: 0px\; padding: 0px\; outline: 0px\; border-radius: 0px\; border: currentcolor\; left: auto\; top: auto\; width: auto\; height: auto\; right: auto\; bottom: auto\; line-height: inherit\; overflow: visible\; clear: none\; vertical-align: baseline\; display: inline\; visibility: inherit\; border-collapse: separate\; position: static\; z-index: auto\; table-layout: auto\; direction: inherit\; max-height: none\; max-width: none\; content: normal\; box-sizing: content-box\; empty-cells: show\; font-stretch: inherit\; opacity: 1\; box-shadow: none\; background-image: none\; resize: none\; outline-offset: 0px\; font-variant-numeric: inherit\;"><span style="background: rgba(0\, 0\, 0\, 0) none repeat scroll 0% 0%\; margin: 0px\; padding: 0px\; outline: 0px none currentcolor\; border-radius: 0px\; border: medium none\; left: auto\; top: auto\; width: auto\; height: auto\; text-align: inherit\; right: auto\; bottom: auto\; text-transform: inherit\; line-height: inherit\; text-indent: inherit\; letter-spacing: inherit\; overflow: visible\; clear: none\; font-size: 11px\; font-style: inherit\; font-variant: inherit\; font-weight: inherit\; word-spacing: inherit\; vertical-align: baseline\; white-space: inherit\; visibility: inherit\; border-collapse: separate\; position: static\; z-index: auto\; table-layout: auto\; direction: inherit\; max-height: none\; max-width: none\; content: normal\; box-sizing: content-box\; empty-cells: show\; font-stretch: inherit\; opacity: 1\; box-shadow: none\; resize: none\; outline-offset: 0px\;"><span style="background: rgba(0\, 0\, 0\, 0) none repeat scroll 0% 0%\; margin: 0px\; padding: 0px\; outline: 0px none currentcolor\; border-radius: 0px\; border: medium none\; left: auto\; top: auto\; width: auto\; height: auto\; text-align: inherit\; right: auto\; bottom: auto\; text-transform: inherit\; line-height: 18.9px\; text-indent: inherit\; letter-spacing: inherit\; overflow: visible\; clear: none\; font-size: inherit\; font-style: inherit\; font-variant: inherit\; font-weight: inherit\; word-spacing: inherit\; vertical-align: baseline\; white-space: inherit\; visibility: inherit\; border-collapse: separate\; position: static\; z-index: auto\; table-layout: auto\; direction: inherit\; max-height: none\; max-width: none\; content: normal\; box-sizing: content-box\; empty-cells: show\; font-stretch: inherit\; opacity: 1\; box-shadow: none\; resize: none\; outline-offset: 0px\;">*</span><span style="background: rgba(0\, 0\, 0\, 0) none repeat scroll 0% 0%\; margin: 0px\; padding: 0px\; outline: 0px none currentcolor\; border-radius: 0px\; border: medium none\; left: auto\; top: auto\; width: auto\; height: auto\; text-align: inherit\; right: auto\; bottom: auto\; text-transform: inherit\; line-height: 15.36px\; text-indent: inherit\; letter-spacing: inherit\; overflow: visible\; clear: none\; font-size: inherit\; font-style: inherit\; font-variant: inherit\; font-weight: inherit\; word-spacing: inherit\; vertical-align: baseline\; white-space: inherit\; visibility: inherit\; border-collapse: separate\; position: static\; z-index: auto\; table-layout: auto\; direction: inherit\; max-height: none\; max-width: none\; content: normal\; box-sizing: content-box\; empty-cells: show\; font-stretch: inherit\; opacity: 1\; box-shadow: none\; resize: none\; outline-offset: 0px\;">ARCC&#39\;s&nbsp\;Cancelation Policy: A registration is a reservation and we look forward to you joining us. &nbsp\;To best support our venue partners and event attendees\, a refund for any reservation will require 72 hours notice for&nbsp\;cancellation. Reserved no shows will be charged the full price. We encourage you to send a co-worker\, peer\, vendor or customer if you&#39\;re not able to make it and giving notice wasn&#39\;t optional.</span></span></em></span></span>
LOCATION:The Grateful Den 56 Hudson Avenue\, Glens Falls\, NY 12801
UID:e.1842.1124
SEQUENCE:3
DTSTAMP:20260425T162639Z
URL:http://business.adirondackchamber.org/events/details/1-2018-trivia-night-mixer-1124
END:VEVENT

END:VCALENDAR
